BEGIN:VCALENDAR
VERSION:2.0
BEGIN:VEVENT
DTSTART:2020-07-05T11:00+01:00
DTEND:2020-07-05T13:00+01:00
SUMMARY:The Quantock Beast
DESCRIPTION:
LOCATION:The Quantock Beast, Broomfield, Bridgwater , Somerset, United Kingdom, TA5 2EQ 
END:VEVENT
END:VCALENDAR
