BEGIN:VCALENDAR
VERSION:2.0
BEGIN:VEVENT
DTSTART:2020-07-05T10:30+01:00
DTEND:2020-07-05T13:00+01:00
SUMMARY:Portland 10 Miler
DESCRIPTION:
LOCATION:Portland 10 miler, Portland YMCA, Reforne, Dorset, United Kingdom, DT5 2AN
END:VEVENT
END:VCALENDAR
