BEGIN:VCALENDAR
VERSION:2.0
BEGIN:VEVENT
DTSTART:2021-07-13T18:32+01:00
DTEND:2021-07-13T20:00+01:00
SUMMARY:Lesley 10 min/mile675
DESCRIPTION:
LOCATION:Yeovil Town Football Club, Huish Park, Yeovil, United Kingdom, BA22 8YF
END:VEVENT
END:VCALENDAR
