BEGIN:VCALENDAR
VERSION:2.0
BEGIN:VEVENT
DTSTART:2020-01-16T18:15+00:00
DTEND:2020-01-16T20:00+00:00
SUMMARY:Skippers
DESCRIPTION:
LOCATION:Skippers, 1 Horse Castles , Sherborne, Dorset, United Kingdom, DT9 3HE
END:VEVENT
END:VCALENDAR
