BEGIN:VCALENDAR
VERSION:2.0
BEGIN:VEVENT
DTSTART:2020-01-08T18:15+00:00
DTEND:2020-01-08T20:00+00:00
SUMMARY:Royal Oak Over Stratton
DESCRIPTION:
LOCATION:Royal Oak, Over Stratton Road, South Petherton, United Kingdom, TA13 5LQ
END:VEVENT
END:VCALENDAR
