BEGIN:VCALENDAR
VERSION:2.0
BEGIN:VEVENT
DTSTART:2019-07-06T10:00+01:00
DTEND:2019-07-06T16:00+01:00
SUMMARY:Charmouth Challenge
DESCRIPTION:
LOCATION:Charmouth School, Lower School Lane, Bridport, Dorset, United Kingdom, DT6 6LR
END:VEVENT
END:VCALENDAR
