BEGIN:VCALENDAR
VERSION:2.0
BEGIN:VEVENT
DTSTART:2020-05-10T11:00+01:00
DTEND:2020-05-10T13:00+01:00
SUMMARY:Wambrook Waddle
DESCRIPTION:
LOCATION:Chard Running Club, The Tithe Barn (next to Cotley House), Wambrook, Somerset, United Kingdom, TA20 3EP
END:VEVENT
END:VCALENDAR
