BEGIN:VCALENDAR
VERSION:2.0
BEGIN:VEVENT
DTSTART:2017-03-12T11:00+00:00
DTEND:2017-03-12T13:00+00:00
SUMMARY:Great Western 10k
DESCRIPTION:
LOCATION:Leweston School, Sherborne, Dorset, United Kingdom, DT9 6EN
END:VEVENT
END:VCALENDAR
