BEGIN:VCALENDAR
VERSION:2.0
BEGIN:VEVENT
DTSTART:2020-07-29T18:35+01:00
DTEND:2020-07-29T20:00+01:00
SUMMARY:Lynn Thumpston
DESCRIPTION:
LOCATION:Yeovil Town Football Club, Huish Park, Yeovil, United Kingdom, BA22 8YF
END:VEVENT
END:VCALENDAR
