BEGIN:VCALENDAR
VERSION:2.0
BEGIN:VEVENT
DTSTART:2020-02-05T18:30+00:00
DTEND:2020-02-05T20:00+00:00
SUMMARY:Flue de Lis Pub Run
DESCRIPTION:
LOCATION:Flur deLis, West St, Stoke-sub-Hamdon , United Kingdom, TA14 6PU
END:VEVENT
END:VCALENDAR
