BEGIN:VCALENDAR
VERSION:2.0
BEGIN:VEVENT
DTSTART:2019-10-05T09:00+01:00
DTEND:2019-10-05T13:00+01:00
SUMMARY:Burnham Half
DESCRIPTION:
LOCATION:Burnham Half Marathon, BASC Sports Ground, Stoddens Road, Burnham, United Kingdom, TA8 2DX
END:VEVENT
END:VCALENDAR
