BEGIN:VCALENDAR
VERSION:2.0
BEGIN:VEVENT
DTSTART:2020-06-28T09:00+01:00
DTEND:2020-06-28T11:00+01:00
SUMMARY:Minster Miler
DESCRIPTION:
LOCATION:Minster Miler, Archie Gooch Pavilion (Ilminster Town FC), Canal Way, ILMINSTER, United Kingdom, TA19 9FE
END:VEVENT
END:VCALENDAR
