BEGIN:VCALENDAR
VERSION:2.0
BEGIN:VEVENT
DTSTART:2020-06-06T09:00+01:00
DTEND:2020-06-06T11:00+01:00
SUMMARY:Montacute Park Run Age
DESCRIPTION:
LOCATION:Park Run, Montacute, Montacute, United Kingdom, TA15 6XP
END:VEVENT
END:VCALENDAR
