BEGIN:VCALENDAR
VERSION:2.0
BEGIN:VEVENT
DTSTART:2020-01-18T19:00+00:00
DTEND:2020-01-18T21:00+00:00
SUMMARY:Ninesprings By Night
DESCRIPTION:
LOCATION:Goldenstones Leisure Centre, Brunswick Street, Yeovil, United Kingdom, BA20 1QZ
END:VEVENT
END:VCALENDAR
