BEGIN:VCALENDAR
VERSION:2.0
BEGIN:VEVENT
DTSTART:2019-11-29T18:00+00:00
DTEND:2019-11-29T19:00+00:00
SUMMARY:Track Night Cancelled
DESCRIPTION:
LOCATION:Yeovil Track, Pickett Lane, Yeovil, Somerste, United Kingdom,  BA21 3DS
END:VEVENT
END:VCALENDAR
