BEGIN:VCALENDAR
VERSION:2.0
BEGIN:VEVENT
DTSTART:2020-03-13T18:15+00:00
DTEND:2020-03-13T20:00+00:00
SUMMARY:Fri Track Training
DESCRIPTION:
LOCATION:Yeovil Track, Pickett Lane, Yeovil, Somerste, United Kingdom,  BA21 3DS
END:VEVENT
END:VCALENDAR
