BEGIN:VCALENDAR
VERSION:2.0
BEGIN:VEVENT
DTSTART:2019-07-21T10:00+01:00
DTEND:2019-07-21T13:00+01:00
SUMMARY:The Buckland Bolt
DESCRIPTION:
LOCATION:Buckland St Mary, Buckland St Mary, Chard, Somerset, United Kingdom, TA20 3SJ
END:VEVENT
END:VCALENDAR
