BEGIN:VCALENDAR
VERSION:2.0
BEGIN:VEVENT
DTSTART:2019-09-05T18:20+01:00
DTEND:2019-09-05T20:00+01:00
SUMMARY:Kings Arms Thornford
DESCRIPTION:
LOCATION:Kings Arms, Pound Road, Thornford, Sherborne , United Kingdom, DT9 6QD
END:VEVENT
END:VCALENDAR
