BEGIN:VCALENDAR
VERSION:2.0
BEGIN:VEVENT
DTSTART:2019-04-20T11:00+01:00
DTEND:2019-04-20T13:00+01:00
SUMMARY:Fred Fox Hash
DESCRIPTION:
LOCATION:Flying Fox Running, Ranger Hut, RANGER HUT AT HAM HILL, Stoke-sub-Hamdon, Somerset, United Kingdom, TA14 6RW
END:VEVENT
END:VCALENDAR
