BEGIN:VCALENDAR
VERSION:2.0
BEGIN:VEVENT
DTSTART:2020-02-06T10:00+00:00
DTEND:2020-02-06T13:00+00:00
SUMMARY:The Big Cheese Trail Race
DESCRIPTION:
LOCATION:Cheddar Running Club, Fairlands Middle School, Masons Way, Cheddar, Somerset, United Kingdom, BS27 3PG
END:VEVENT
END:VCALENDAR
