BEGIN:VCALENDAR
VERSION:2.0
BEGIN:VEVENT
DTSTART:2019-04-07T10:30+01:00
DTEND:2019-04-07T16:00+01:00
SUMMARY:Taunton Half and Full
DESCRIPTION:
LOCATION:Taunton Marathon, Wellington Road, Taunton, Somerset, United Kingdom, TA1 5AX 
END:VEVENT
END:VCALENDAR
