BEGIN:VCALENDAR
VERSION:2.0
BEGIN:VEVENT
DTSTART:2019-09-28T09:00+01:00
DTEND:2019-09-28T13:00+01:00
SUMMARY:Jurassic  Marathon
DESCRIPTION:
LOCATION:White Star Running, Freshwater Beach Holiday Park, Burton Bradstock, Bridport, United Kingdom, DT6 4PT 
END:VEVENT
END:VCALENDAR
