BEGIN:VCALENDAR
VERSION:2.0
BEGIN:VEVENT
DTSTART:2023-08-03T18:25+01:00
DTEND:2023-08-03T20:00+01:00
SUMMARY:Dinnington Docks Pub
DESCRIPTION:
LOCATION:Dinnington Docks, Hinton Saint George , Dinnington, United Kingdom, TA17 8SX
END:VEVENT
END:VCALENDAR
