BEGIN:VCALENDAR
VERSION:2.0
BEGIN:VEVENT
DTSTART:2019-06-29T18:00+01:00
DTEND:2019-06-29T20:00+01:00
SUMMARY:Umborne Ug 10k 
DESCRIPTION:
LOCATION:Umborne Ug 10k , Shute, Axminster, United Kingdom, EX13 7QL
END:VEVENT
END:VCALENDAR
