BEGIN:VCALENDAR
VERSION:2.0
BEGIN:VEVENT
DTSTART:2020-02-06T18:15+00:00
DTEND:2020-02-06T20:00+00:00
SUMMARY:Wyndham Arms
DESCRIPTION:
LOCATION:The Wyndham Arms, Folly Road, Kingsbury Episcopi, Martock, Somerset, United Kingdom, TA12 6AT
END:VEVENT
END:VCALENDAR
