BEGIN:VCALENDAR
VERSION:2.0
BEGIN:VEVENT
DTSTART:2026-05-07T18:15+01:00
DTEND:2026-05-07T20:00+01:00
SUMMARY:The Castle Brook
DESCRIPTION:
LOCATION:Castle Brook, B3151, Compton Dundon, Somerton, United Kingdom, TA11 6PR
END:VEVENT
END:VCALENDAR
