BEGIN:VCALENDAR
VERSION:2.0
BEGIN:VEVENT
DTSTART:2026-06-11T18:30+01:00
DTEND:2026-06-11T20:00+01:00
SUMMARY:White Heart Pub
DESCRIPTION:
LOCATION:2 Cheap Street, Sherborne , Dorset, United Kingdom, DT9 3PX
END:VEVENT
END:VCALENDAR
