BEGIN:VCALENDAR
VERSION:2.0
BEGIN:VEVENT
DTSTART:2019-06-20T18:29+01:00
DTEND:2019-06-20T20:00+01:00
SUMMARY:Rose and Portcullis
DESCRIPTION:
LOCATION:Rose and Port Cullis , Sub Road, Butleigh, Somerset, United Kingdom, BA6 8TQ
END:VEVENT
END:VCALENDAR
