BEGIN:VCALENDAR
VERSION:2.0
BEGIN:VEVENT
DTSTART:2023-10-24T18:15+01:00
DTEND:2023-10-24T20:00+01:00
SUMMARY:Club Run - Goldenstones-Summer
DESCRIPTION:
LOCATION:Goldenstones Leisure Centre, Brunswick Street, Yeovil, United Kingdom, BA20 1QZ
END:VEVENT
END:VCALENDAR
