BEGIN:VCALENDAR
VERSION:2.0
BEGIN:VEVENT
DTSTART:2019-07-02T18:15+01:00
DTEND:2019-07-02T20:00+01:00
SUMMARY:Pen Mill Hotel
DESCRIPTION:
LOCATION:Pen Mill Hotel, Sherborne Road, Yeovil, s, United Kingdom, BA21 5DB
END:VEVENT
END:VCALENDAR
