BEGIN:VCALENDAR
VERSION:2.0
BEGIN:VEVENT
DTSTART:2020-03-18T18:20+00:00
DTEND:2020-03-18T20:00+00:00
SUMMARY:White Hart
DESCRIPTION:
LOCATION:White Hart, High Street, Yetminster, Sherborne , Dorset, United Kingdom,  DT9 6LF
END:VEVENT
END:VCALENDAR
