BEGIN:VCALENDAR
VERSION:2.0
BEGIN:VEVENT
DTSTART:2020-01-02T18:25+00:00
DTEND:2020-01-02T20:00+00:00
SUMMARY:The Catash Inn
DESCRIPTION:
LOCATION:The Catash Inn, Cary Rd, Yeovil , Somerset, United Kingdom, BA22 7DH
END:VEVENT
END:VCALENDAR
