BEGIN:VCALENDAR
VERSION:2.0
BEGIN:VEVENT
DTSTART:2023-04-18T18:15+01:00
DTEND:2023-04-18T20:00+01:00
SUMMARY:Club Run - Goldenstones
DESCRIPTION:
LOCATION:Goldenstones Leisure Centre, Brunswick Street, Yeovil, United Kingdom, BA20 1QZ
END:VEVENT
END:VCALENDAR
