BEGIN:VCALENDAR
VERSION:2.0
BEGIN:VEVENT
DTSTART:2019-04-25T18:15+01:00
DTEND:2019-04-25T20:00+01:00
SUMMARY:The Wyndham Arms
DESCRIPTION:
LOCATION:The Wyndham Arms, Folly Road, Kingsbury Episcopi, Martock, Somerset, United Kingdom, TA12 6AT
END:VEVENT
END:VCALENDAR
