BEGIN:VCALENDAR
VERSION:2.0
BEGIN:VEVENT
DTSTART:2026-04-30T18:15+01:00
DTEND:2026-04-30T20:00+01:00
SUMMARY:The Rose and Crown
DESCRIPTION:
LOCATION:The Roase and Crown, Church Road, Bradford Abbas, Sherborne, United Kingdom, DT9 6RF
END:VEVENT
END:VCALENDAR
