BEGIN:VCALENDAR
VERSION:2.0
BEGIN:VEVENT
DTSTART:2020-06-10T19:15+01:00
DTEND:2020-06-10T21:00+01:00
SUMMARY:Summer 5k Series 3r534r
DESCRIPTION:
LOCATION:RNAS Yeovilton, Yeovil, United Kingdom, BA22 8HT
END:VEVENT
END:VCALENDAR
