BEGIN:VCALENDAR
VERSION:2.0
BEGIN:VEVENT
DTSTART:2023-06-14T19:15+01:00
DTEND:2023-06-14T20:30+01:00
SUMMARY:Summer 5k Series 567
DESCRIPTION:
LOCATION:RNAS Yeovilton, Yeovil, United Kingdom, BA22 8HT
END:VEVENT
END:VCALENDAR
