BEGIN:VCALENDAR
VERSION:2.0
BEGIN:VEVENT
DTSTART:2023-12-21T18:15+00:00
DTEND:2023-12-21T20:00+00:00
SUMMARY:Burger King
DESCRIPTION:
LOCATION:Burger King, 2 Middle St, Yeovil, United Kingdom, BA20 1LZ
END:VEVENT
END:VCALENDAR
