BEGIN:VCALENDAR
VERSION:2.0
BEGIN:VEVENT
DTSTART:2023-12-31T09:30+00:00
DTEND:2023-12-31T12:00+00:00
SUMMARY:YTRRC Scavenger Hunt
DESCRIPTION:
LOCATION:The Bell, 207 Preston Road, Yeovil, United Kingdom, BA20 2EW
END:VEVENT
END:VCALENDAR
