BEGIN:VCALENDAR
VERSION:2.0
BEGIN:VEVENT
DTSTART:2023-11-02T18:15+00:00
DTEND:2023-11-02T20:00+00:00
SUMMARY:Palmers Chip Shop Town
DESCRIPTION:
LOCATION:Palmers, Market Street, Yeovil, Somerset, United Kingdom, BA20 1HY
END:VEVENT
END:VCALENDAR
