BEGIN:VCALENDAR
VERSION:2.0
BEGIN:VEVENT
DTSTART:2026-04-07T18:15+01:00
DTEND:2026-04-07T20:00+01:00
SUMMARY:Goldenstones Winter
DESCRIPTION:
LOCATION:Goldenstones Leisure Centre, Brunswick Street, Yeovil, United Kingdom, BA20 1QZ
END:VEVENT
END:VCALENDAR
