BEGIN:VCALENDAR
VERSION:2.0
BEGIN:VEVENT
DTSTART:2023-11-30T19:00+00:00
DTEND:2023-11-30T23:59+00:00
SUMMARY:Awards Night 2023
DESCRIPTION:
LOCATION:Yeovil Golf Club, Sherborne Rd, Yeovil, United Kingdom, BA21 5BW
END:VEVENT
END:VCALENDAR
