BEGIN:VCALENDAR
VERSION:2.0
BEGIN:VEVENT
DTSTART:2020-06-07T10:00+01:00
DTEND:2020-06-07T13:00+01:00
SUMMARY:Crewkerne 10k
DESCRIPTION:
LOCATION:Crewkerne Running Club, Kingfisher House, Market Square, Crewkerne, Somerset, United Kingdom, TA18 7LH
END:VEVENT
END:VCALENDAR
