BEGIN:VCALENDAR
VERSION:2.0
BEGIN:VEVENT
DTSTART:2023-06-13T18:00+01:00
DTEND:2023-06-13T20:30+01:00
SUMMARY:AGM 2023
DESCRIPTION:
LOCATION:Yeovil Town Football Club, Huish Park, Yeovil, United Kingdom, BA22 8YF
END:VEVENT
END:VCALENDAR
