BEGIN:VCALENDAR
VERSION:2.0
BEGIN:VEVENT
DTSTART:2019-10-13T11:00+01:00
DTEND:2019-10-13T13:00+01:00
SUMMARY:Gold Hill
DESCRIPTION:
LOCATION:Gillingham Trotters Running Club, Salisbury Rd, Shaftesbury , Dorset, United Kingdom, SP7 8ER
END:VEVENT
END:VCALENDAR
