BEGIN:VCALENDAR
VERSION:2.0
BEGIN:VEVENT
DTSTART:2025-05-21T19:00+01:00
DTEND:2025-05-21T20:30+01:00
SUMMARY:Town Tree Trail
DESCRIPTION:
LOCATION:Kingsbury Community Centre, Thorney Road, Kingsbury Episcopi, Martock , Somerset, United Kingdom, TA12 6BG
END:VEVENT
END:VCALENDAR
