BEGIN:VCALENDAR
VERSION:2.0
BEGIN:VEVENT
DTSTART:2023-09-08T18:00+01:00
DTEND:2023-09-08T23:59+01:00
SUMMARY:Awards Night 2022
DESCRIPTION:
LOCATION:Yeovil Rugby Club, Church Lane, Yeovil, Somerste, United Kingdom, BA22 9TR
END:VEVENT
END:VCALENDAR
