BEGIN:VCALENDAR
VERSION:2.0
BEGIN:VEVENT
DTSTART:2019-06-09T09:00+01:00
DTEND:2019-06-09T13:00+01:00
SUMMARY:Yeovil Marathon
DESCRIPTION:
LOCATION:RNAS Yeovilton, Yeovil, United Kingdom, BA22 8HT
END:VEVENT
END:VCALENDAR
