BEGIN:VCALENDAR
VERSION:2.0
BEGIN:VEVENT
DTSTART:2023-08-25T18:00+01:00
DTEND:2023-08-25T20:00+01:00
SUMMARY:Fri Track 1st Sept
DESCRIPTION:
LOCATION:Yeovil Track, Pickett Lane, Yeovil, Somerste, United Kingdom,  BA21 3DS
END:VEVENT
END:VCALENDAR
