BEGIN:VCALENDAR
VERSION:2.0
BEGIN:VEVENT
DTSTART:2020-06-07T11:00+01:00
DTEND:2020-06-07T13:00+01:00
SUMMARY:Ash Excellent 8 Fearsome 5
DESCRIPTION:
LOCATION:Ash Excellent 8, Ash Primary School, Ash, Somerset, United Kingdom, TA12 6NS
END:VEVENT
END:VCALENDAR
